BEGIN:VCALENDAR
VERSION:2.0
PRODID:-//Centre Jacques-Cartier - ECPv6.15.17.1//NONSGML v1.0//EN
CALSCALE:GREGORIAN
METHOD:PUBLISH
X-WR-CALNAME:Centre Jacques-Cartier
X-ORIGINAL-URL:https://centrejacquescartier.org
X-WR-CALDESC:Évènements pour Centre Jacques-Cartier
REFRESH-INTERVAL;VALUE=DURATION:PT1H
X-Robots-Tag:noindex
X-PUBLISHED-TTL:PT1H
BEGIN:VTIMEZONE
TZID:America/Toronto
BEGIN:DAYLIGHT
TZOFFSETFROM:-0500
TZOFFSETTO:-0400
TZNAME:EDT
DTSTART:20190310T070000
END:DAYLIGHT
BEGIN:STANDARD
TZOFFSETFROM:-0400
TZOFFSETTO:-0500
TZNAME:EST
DTSTART:20191103T060000
END:STANDARD
BEGIN:DAYLIGHT
TZOFFSETFROM:-0500
TZOFFSETTO:-0400
TZNAME:EDT
DTSTART:20200308T070000
END:DAYLIGHT
BEGIN:STANDARD
TZOFFSETFROM:-0400
TZOFFSETTO:-0500
TZNAME:EST
DTSTART:20201101T060000
END:STANDARD
BEGIN:DAYLIGHT
TZOFFSETFROM:-0500
TZOFFSETTO:-0400
TZNAME:EDT
DTSTART:20210314T070000
END:DAYLIGHT
BEGIN:STANDARD
TZOFFSETFROM:-0400
TZOFFSETTO:-0500
TZNAME:EST
DTSTART:20211107T060000
END:STANDARD
END:VTIMEZONE
BEGIN:VEVENT
DTSTART;TZID=America/Toronto:20200311T180000
DTEND;TZID=America/Toronto:20200311T210000
DTSTAMP:20260421T170225
CREATED:20200305T212235Z
LAST-MODIFIED:20200309T173517Z
UID:10000259-1583949600-1583960400@centrejacquescartier.org
SUMMARY:Rattachements - repas collectif et discussion sur l'écologie
DESCRIPTION:Bouffe et discussion autour de la parution de Rattachements. Nous vous proposons de parler brièvement du texte\, de faire la lecture de quelques extraits et d’en discuter ensemble. Un souper gratuit sera servi. \nLe texte Rattachements nous invite à réfléchir sur les manières dont les affects écologistes sont capturés par des machines gouvernementales et individualisantes et sur les manières de garder le contact avec la force dont ils sont porteurs. Écrit à plusieurs mains et résultat d’expérimentation aux marges de l’écologie\, il propose l’idée d’une écologie de la présence en opposition aux écologies de l’absence\, qui cherchent à protéger une «Nature» tenue à distance. \n«Une écologie de la présence se déploie dans un double mouvement\, celui d’un rattachement matériel et existentiel au monde que nous habitons. Positions et dispositions. Se rendre présent-es est une pratique qui consiste à rompre avec l’absence au monde à travers l’élaboration de nouvelles sensibilités\, mais aussi de nouvelles positions depuis lesquelles agir\, de nouvelles consistances.» \nIl s’agit concrètement de recentrer l’écologie sur les modes d’habitation qui font foisonner la vie\, sur l’agriculture paysanne\, sur la défense des territoires contre des projets industriels et sur la décolonisation. Cela revient à dire\, décentrer l’écologie du règne de l’économie et du gouvernement.
URL:https://centrejacquescartier.org/activite/rattachements-repas-collectif-et-discussion-sur-lecologie/
LOCATION:Espace Tam Tam\, 421\, boul. Langelier\, Québec\, Québec\, G1K9B9\, Canada
CATEGORIES:objectif résilience
ATTACH;FMTTYPE=image/jpeg:https://centrejacquescartier.org/wp-content/uploads/2020/03/Rattachement-repas-collectif-et-discussion-sur-lécologie_20200311.jpg
END:VEVENT
END:VCALENDAR