BEGIN:VCALENDAR
VERSION:2.0
PRODID:-//Centre Jacques-Cartier - ECPv6.15.17.1//NONSGML v1.0//EN
CALSCALE:GREGORIAN
METHOD:PUBLISH
X-ORIGINAL-URL:https://centrejacquescartier.org
X-WR-CALDESC:Évènements pour Centre Jacques-Cartier
REFRESH-INTERVAL;VALUE=DURATION:PT1H
X-Robots-Tag:noindex
X-PUBLISHED-TTL:PT1H
BEGIN:VTIMEZONE
TZID:America/New_York
BEGIN:DAYLIGHT
TZOFFSETFROM:-0500
TZOFFSETTO:-0400
TZNAME:EDT
DTSTART:20180311T070000
END:DAYLIGHT
BEGIN:STANDARD
TZOFFSETFROM:-0400
TZOFFSETTO:-0500
TZNAME:EST
DTSTART:20181104T060000
END:STANDARD
BEGIN:DAYLIGHT
TZOFFSETFROM:-0500
TZOFFSETTO:-0400
TZNAME:EDT
DTSTART:20190310T070000
END:DAYLIGHT
BEGIN:STANDARD
TZOFFSETFROM:-0400
TZOFFSETTO:-0500
TZNAME:EST
DTSTART:20191103T060000
END:STANDARD
BEGIN:DAYLIGHT
TZOFFSETFROM:-0500
TZOFFSETTO:-0400
TZNAME:EDT
DTSTART:20200308T070000
END:DAYLIGHT
BEGIN:STANDARD
TZOFFSETFROM:-0400
TZOFFSETTO:-0500
TZNAME:EST
DTSTART:20201101T060000
END:STANDARD
BEGIN:DAYLIGHT
TZOFFSETFROM:-0500
TZOFFSETTO:-0400
TZNAME:EDT
DTSTART:20210314T070000
END:DAYLIGHT
BEGIN:STANDARD
TZOFFSETFROM:-0400
TZOFFSETTO:-0500
TZNAME:EST
DTSTART:20211107T060000
END:STANDARD
END:VTIMEZONE
BEGIN:VEVENT
DTSTART;TZID=America/New_York:20200206T170000
DTEND;TZID=America/New_York:20200206T220000
DTSTAMP:20260420T112613
CREATED:20190828T183857Z
LAST-MODIFIED:20191219T150651Z
UID:10000143-1581008400-1581026400@centrejacquescartier.org
SUMMARY:Invasion créative
DESCRIPTION:Participez à une soirée guidée autour de la création dans l’Espace Tam Tam le jeudi 5 septembre prochain\, de 17h à 22h. \nGRATUIT ET OUVERT À TOUS ! \nOn vous y attend !
URL:https://centrejacquescartier.org/activite/invasion-creative/2020-02-06/
LOCATION:Espace Tam Tam\, 421\, boul. Langelier\, Québec\, Québec\, G1K9B9\, Canada
ATTACH;FMTTYPE=image/jpeg:https://centrejacquescartier.org/wp-content/uploads/2019/08/Invasion-créative-20191205-e1576767634371.jpg
END:VEVENT
BEGIN:VEVENT
DTSTART;TZID=America/New_York:20200109T170000
DTEND;TZID=America/New_York:20200109T220000
DTSTAMP:20260420T112613
CREATED:20190828T183857Z
LAST-MODIFIED:20191219T150651Z
UID:10000142-1578589200-1578607200@centrejacquescartier.org
SUMMARY:Invasion créative
DESCRIPTION:Participez à une soirée guidée autour de la création dans l’Espace Tam Tam le jeudi 5 septembre prochain\, de 17h à 22h. \nGRATUIT ET OUVERT À TOUS ! \nOn vous y attend !
URL:https://centrejacquescartier.org/activite/invasion-creative/2020-01-09/
LOCATION:Espace Tam Tam\, 421\, boul. Langelier\, Québec\, Québec\, G1K9B9\, Canada
ATTACH;FMTTYPE=image/jpeg:https://centrejacquescartier.org/wp-content/uploads/2019/08/Invasion-créative-20191205-e1576767634371.jpg
END:VEVENT
BEGIN:VEVENT
DTSTART;TZID=America/New_York:20191205T170000
DTEND;TZID=America/New_York:20191205T220000
DTSTAMP:20260420T112613
CREATED:20190828T183857Z
LAST-MODIFIED:20191219T150651Z
UID:10000141-1575565200-1575583200@centrejacquescartier.org
SUMMARY:Invasion créative
DESCRIPTION:Participez à une soirée guidée autour de la création dans l’Espace Tam Tam le jeudi 5 septembre prochain\, de 17h à 22h. \nGRATUIT ET OUVERT À TOUS ! \nOn vous y attend !
URL:https://centrejacquescartier.org/activite/invasion-creative/2019-12-05/
LOCATION:Espace Tam Tam\, 421\, boul. Langelier\, Québec\, Québec\, G1K9B9\, Canada
ATTACH;FMTTYPE=image/jpeg:https://centrejacquescartier.org/wp-content/uploads/2019/08/Invasion-créative-20191205-e1576767634371.jpg
END:VEVENT
BEGIN:VEVENT
DTSTART;TZID=America/New_York:20191107T170000
DTEND;TZID=America/New_York:20191107T220000
DTSTAMP:20260420T112613
CREATED:20190828T183857Z
LAST-MODIFIED:20191219T150651Z
UID:10000140-1573146000-1573164000@centrejacquescartier.org
SUMMARY:Invasion créative
DESCRIPTION:Participez à une soirée guidée autour de la création dans l’Espace Tam Tam le jeudi 5 septembre prochain\, de 17h à 22h. \nGRATUIT ET OUVERT À TOUS ! \nOn vous y attend !
URL:https://centrejacquescartier.org/activite/invasion-creative/2019-11-07/
LOCATION:Espace Tam Tam\, 421\, boul. Langelier\, Québec\, Québec\, G1K9B9\, Canada
ATTACH;FMTTYPE=image/jpeg:https://centrejacquescartier.org/wp-content/uploads/2019/08/Invasion-créative-20191205-e1576767634371.jpg
END:VEVENT
BEGIN:VEVENT
DTSTART;TZID=America/New_York:20191003T170000
DTEND;TZID=America/New_York:20191003T220000
DTSTAMP:20260420T112613
CREATED:20190828T183857Z
LAST-MODIFIED:20191219T150651Z
UID:10000139-1570122000-1570140000@centrejacquescartier.org
SUMMARY:Invasion créative
DESCRIPTION:Participez à une soirée guidée autour de la création dans l’Espace Tam Tam le jeudi 5 septembre prochain\, de 17h à 22h. \nGRATUIT ET OUVERT À TOUS ! \nOn vous y attend !
URL:https://centrejacquescartier.org/activite/invasion-creative/2019-10-03/
LOCATION:Espace Tam Tam\, 421\, boul. Langelier\, Québec\, Québec\, G1K9B9\, Canada
ATTACH;FMTTYPE=image/jpeg:https://centrejacquescartier.org/wp-content/uploads/2019/08/Invasion-créative-20191205-e1576767634371.jpg
END:VEVENT
BEGIN:VEVENT
DTSTART;TZID=America/New_York:20190905T170000
DTEND;TZID=America/New_York:20190905T220000
DTSTAMP:20260420T112613
CREATED:20190828T183857Z
LAST-MODIFIED:20191219T150651Z
UID:10000138-1567702800-1567720800@centrejacquescartier.org
SUMMARY:Invasion créative
DESCRIPTION:Participez à une soirée guidée autour de la création dans l’Espace Tam Tam le jeudi 5 septembre prochain\, de 17h à 22h. \nGRATUIT ET OUVERT À TOUS ! \nOn vous y attend !
URL:https://centrejacquescartier.org/activite/invasion-creative/2019-09-05/
LOCATION:Espace Tam Tam\, 421\, boul. Langelier\, Québec\, Québec\, G1K9B9\, Canada
ATTACH;FMTTYPE=image/jpeg:https://centrejacquescartier.org/wp-content/uploads/2019/08/Invasion-créative-20191205-e1576767634371.jpg
END:VEVENT
END:VCALENDAR