BEGIN:VCALENDAR
VERSION:2.0
PRODID:-//Centre Jacques-Cartier - ECPv6.15.17.1//NONSGML v1.0//EN
CALSCALE:GREGORIAN
METHOD:PUBLISH
X-WR-CALNAME:Centre Jacques-Cartier
X-ORIGINAL-URL:https://centrejacquescartier.org
X-WR-CALDESC:Évènements pour Centre Jacques-Cartier
REFRESH-INTERVAL;VALUE=DURATION:PT1H
X-Robots-Tag:noindex
X-PUBLISHED-TTL:PT1H
BEGIN:VTIMEZONE
TZID:America/Toronto
BEGIN:DAYLIGHT
TZOFFSETFROM:-0500
TZOFFSETTO:-0400
TZNAME:EDT
DTSTART:20190310T070000
END:DAYLIGHT
BEGIN:STANDARD
TZOFFSETFROM:-0400
TZOFFSETTO:-0500
TZNAME:EST
DTSTART:20191103T060000
END:STANDARD
BEGIN:DAYLIGHT
TZOFFSETFROM:-0500
TZOFFSETTO:-0400
TZNAME:EDT
DTSTART:20200308T070000
END:DAYLIGHT
BEGIN:STANDARD
TZOFFSETFROM:-0400
TZOFFSETTO:-0500
TZNAME:EST
DTSTART:20201101T060000
END:STANDARD
BEGIN:DAYLIGHT
TZOFFSETFROM:-0500
TZOFFSETTO:-0400
TZNAME:EDT
DTSTART:20210314T070000
END:DAYLIGHT
BEGIN:STANDARD
TZOFFSETFROM:-0400
TZOFFSETTO:-0500
TZNAME:EST
DTSTART:20211107T060000
END:STANDARD
END:VTIMEZONE
BEGIN:VEVENT
DTSTART;TZID=America/Toronto:20200426T170000
DTEND;TZID=America/Toronto:20200426T180000
DTSTAMP:20260421T091612
CREATED:20200305T211707Z
LAST-MODIFIED:20200305T211707Z
UID:10000257-1587920400-1587924000@centrejacquescartier.org
SUMMARY:Inspiration Yoga pour tous
DESCRIPTION:Un dimanche sur deux\, Marie-Pier vient partager sa pratique des 10 dernières années et vous guide à travers des exercices de respiration et de flexibilité accessibles à tous. \nUn moment pour vous centrer et connecter avec vous-même. \nNamaste
URL:https://centrejacquescartier.org/activite/inspiration-yoga-pour-tous/2020-04-26/
LOCATION:Espace Tam Tam\, 421\, boul. Langelier\, Québec\, Québec\, G1K9B9\, Canada
ATTACH;FMTTYPE=image/jpeg:https://centrejacquescartier.org/wp-content/uploads/2020/03/Image-Yoga-plus-petite.jpg
END:VEVENT
BEGIN:VEVENT
DTSTART;TZID=America/Toronto:20200322T170000
DTEND;TZID=America/Toronto:20200322T180000
DTSTAMP:20260421T091612
CREATED:20200305T211707Z
LAST-MODIFIED:20200316T203640Z
UID:10000258-1584896400-1584900000@centrejacquescartier.org
SUMMARY:Inspiration Yoga pour tous - ANNULÉ
DESCRIPTION:ÉVÈNEMENT ANNULÉ à cause du COVID-19\n  \nUn dimanche sur deux\, Marie-Pier vient partager sa pratique des 10 dernières années et vous guide à travers des exercices de respiration et de flexibilité accessibles à tous. \nUn moment pour vous centrer et connecter avec vous-même. \nNamaste
URL:https://centrejacquescartier.org/activite/inspiration-yoga-pour-tous-2020-03-22/
LOCATION:Espace Tam Tam\, 421\, boul. Langelier\, Québec\, Québec\, G1K9B9\, Canada
ATTACH;FMTTYPE=image/jpeg:https://centrejacquescartier.org/wp-content/uploads/2020/03/Image-Yoga-plus-petite.jpg
END:VEVENT
BEGIN:VEVENT
DTSTART;TZID=America/Toronto:20200308T170000
DTEND;TZID=America/Toronto:20200308T180000
DTSTAMP:20260421T091612
CREATED:20200305T211707Z
LAST-MODIFIED:20200305T211707Z
UID:10000256-1583686800-1583690400@centrejacquescartier.org
SUMMARY:Inspiration Yoga pour tous
DESCRIPTION:Un dimanche sur deux\, Marie-Pier vient partager sa pratique des 10 dernières années et vous guide à travers des exercices de respiration et de flexibilité accessibles à tous. \nUn moment pour vous centrer et connecter avec vous-même. \nNamaste
URL:https://centrejacquescartier.org/activite/inspiration-yoga-pour-tous/2020-03-08/
LOCATION:Espace Tam Tam\, 421\, boul. Langelier\, Québec\, Québec\, G1K9B9\, Canada
ATTACH;FMTTYPE=image/jpeg:https://centrejacquescartier.org/wp-content/uploads/2020/03/Image-Yoga-plus-petite.jpg
END:VEVENT
END:VCALENDAR