BEGIN:VCALENDAR
VERSION:2.0
PRODID:-//Centre Jacques-Cartier - ECPv6.15.17.1//NONSGML v1.0//EN
CALSCALE:GREGORIAN
METHOD:PUBLISH
X-ORIGINAL-URL:https://centrejacquescartier.org
X-WR-CALDESC:Évènements pour Centre Jacques-Cartier
REFRESH-INTERVAL;VALUE=DURATION:PT1H
X-Robots-Tag:noindex
X-PUBLISHED-TTL:PT1H
BEGIN:VTIMEZONE
TZID:America/Toronto
BEGIN:DAYLIGHT
TZOFFSETFROM:-0500
TZOFFSETTO:-0400
TZNAME:EDT
DTSTART:20220313T070000
END:DAYLIGHT
BEGIN:STANDARD
TZOFFSETFROM:-0400
TZOFFSETTO:-0500
TZNAME:EST
DTSTART:20221106T060000
END:STANDARD
BEGIN:DAYLIGHT
TZOFFSETFROM:-0500
TZOFFSETTO:-0400
TZNAME:EDT
DTSTART:20230312T070000
END:DAYLIGHT
BEGIN:STANDARD
TZOFFSETFROM:-0400
TZOFFSETTO:-0500
TZNAME:EST
DTSTART:20231105T060000
END:STANDARD
BEGIN:DAYLIGHT
TZOFFSETFROM:-0500
TZOFFSETTO:-0400
TZNAME:EDT
DTSTART:20240310T070000
END:DAYLIGHT
BEGIN:STANDARD
TZOFFSETFROM:-0400
TZOFFSETTO:-0500
TZNAME:EST
DTSTART:20241103T060000
END:STANDARD
BEGIN:DAYLIGHT
TZOFFSETFROM:-0500
TZOFFSETTO:-0400
TZNAME:EDT
DTSTART:20250309T070000
END:DAYLIGHT
BEGIN:STANDARD
TZOFFSETFROM:-0400
TZOFFSETTO:-0500
TZNAME:EST
DTSTART:20251102T060000
END:STANDARD
END:VTIMEZONE
BEGIN:VEVENT
DTSTART;TZID=America/Toronto:20240814T170000
DTEND;TZID=America/Toronto:20240814T193000
DTSTAMP:20260420T094603
CREATED:20240628T141336Z
LAST-MODIFIED:20240913T193842Z
UID:10001391-1723654800-1723663800@centrejacquescartier.org
SUMMARY:Le BBQ de l’Oasis
DESCRIPTION:Les soupers comm’ vous manquent pendant l’été ? Rejoignez-nous pour cette alternative estivale dans notre cours arrière!  \nAu menu : hamburgers\, hot-dogs\, joie\, plaisir et bonheur ! Une option végane sera également disponible. \nNous avons hâte de vous voir ! \n\nGratuit et ouvert à toustes. Remise à l’intérieur (Dôme) en cas de pluie\nL’oasis urbaine du CJC: 20 Boulevard Charest E\, Québec\, QC G1K 3G2\nQuand : Le mercredi 17 juillet à 18h
URL:https://centrejacquescartier.org/activite/le-bbq-de-loasis-2/2024-08-14/
LOCATION:Centre résidentiel et communautaire Jacques-Cartier\, 421 Boulevard Langelier\, Québec\, Québec\, G1K 9B9\, Canada
CATEGORIES:Dôme
ATTACH;FMTTYPE=image/png:https://centrejacquescartier.org/wp-content/uploads/2024/06/visuel-event1.png
END:VEVENT
BEGIN:VEVENT
DTSTART;TZID=America/Toronto:20240809T183000
DTEND;TZID=America/Toronto:20240809T210000
DTSTAMP:20260420T094603
CREATED:20240628T145843Z
LAST-MODIFIED:20241031T131055Z
UID:10001484-1723228200-1723237200@centrejacquescartier.org
SUMMARY:Potluck Végane
DESCRIPTION:Un potluck est un repas où chacun.e apporte un plat à partager avec les autres. Une manière conviviale de partager un repas et de découvrir de nouvelles recettes. Dans ce potluck\, tous les plats seront véganes\, c’est-à-dire qu’il n’y a aucun produit animal. \nEn plus de partager un repas et de rencontrer de nouvelles personnes\, vous pouvez apporter des jeux de société ou instruments de musique. Il y aura de l’espace pour cela après le repas pour celles et ceux qui voudront jouer. \nAdresse:Centre Jacques-Cartier20 Boulevard Charest EstQuébec QC G1K 3G2 \nHeure: 18h30 \nRappels :– Afin que chacun.e puisse manger sans se poser de questions\, nous vous invitons à apporter un repas végétalien ; c’est-à-dire SANS produit animal donc (pas de viande (boeuf\, porc\, poulet poisson\, fruits de mer)\, de lait\, de beurre\, de fromage\, de yogourt\, d’œuf\, de miel\, de bouillon de poulet/bœuf\, de gélatine\, etc.) \n– Si vous avez besoin d’idées pour cuisiner\, passez voir la section recettes ou envoyez-nous un courriel \n– Nous invitons tous.tes les participant.es à apporter la liste des ingrédients\, et pourquoi pas la recette au complet  \nOuvert à tous.tes! Amenez vos ami.es! Au plaisir de vous revoir et de partager un autre repas ensemble!
URL:https://centrejacquescartier.org/activite/potluck-vegane-5/2024-08-09/
LOCATION:Centre résidentiel et communautaire Jacques-Cartier\, 421 Boulevard Langelier\, Québec\, Québec\, G1K 9B9\, Canada
CATEGORIES:Dôme
ATTACH;FMTTYPE=image/jpeg:https://centrejacquescartier.org/wp-content/uploads/2024/06/potluckvegane.jpg
END:VEVENT
BEGIN:VEVENT
DTSTART;TZID=America/Toronto:20240731T170000
DTEND;TZID=America/Toronto:20240731T200000
DTSTAMP:20260420T094603
CREATED:20240628T150444Z
LAST-MODIFIED:20240628T150655Z
UID:10001393-1722445200-1722456000@centrejacquescartier.org
SUMMARY:Le potluck de l’Oasis
DESCRIPTION:Potluck de l’Oasis \nNous t’invitons à un souper potluck dans notre Oasis Urbaine ! Apporte ton plat préféré et viens profiter de l’été avec nous.  \n\nGratuit et ouvert à toutes et à tous. Remise à l’intérieur (Dôme) en cas de pluie.\nAdresse: L’oasis Urbainr du CJC\, 20 Boulevard Charest E\, Québec\, QC G1K 3G2
URL:https://centrejacquescartier.org/activite/potluck-de-loasis/
LOCATION:Centre résidentiel et communautaire Jacques-Cartier\, 421 Boulevard Langelier\, Québec\, Québec\, G1K 9B9\, Canada
CATEGORIES:Dôme
ATTACH;FMTTYPE=image/png:https://centrejacquescartier.org/wp-content/uploads/2024/06/visuel-event-5.png
END:VEVENT
BEGIN:VEVENT
DTSTART;TZID=America/Toronto:20240717T170000
DTEND;TZID=America/Toronto:20240717T193000
DTSTAMP:20260420T094603
CREATED:20240628T141336Z
LAST-MODIFIED:20240913T193842Z
UID:10001389-1721235600-1721244600@centrejacquescartier.org
SUMMARY:Le BBQ de l’Oasis
DESCRIPTION:Les soupers comm’ vous manquent pendant l’été ? Rejoignez-nous pour cette alternative estivale dans notre cours arrière!  \nAu menu : hamburgers\, hot-dogs\, joie\, plaisir et bonheur ! Une option végane sera également disponible. \nNous avons hâte de vous voir ! \n\nGratuit et ouvert à toustes. Remise à l’intérieur (Dôme) en cas de pluie\nL’oasis urbaine du CJC: 20 Boulevard Charest E\, Québec\, QC G1K 3G2\nQuand : Le mercredi 17 juillet à 18h
URL:https://centrejacquescartier.org/activite/le-bbq-de-loasis-2/2024-07-17/
LOCATION:Centre résidentiel et communautaire Jacques-Cartier\, 421 Boulevard Langelier\, Québec\, Québec\, G1K 9B9\, Canada
CATEGORIES:Dôme
ATTACH;FMTTYPE=image/png:https://centrejacquescartier.org/wp-content/uploads/2024/06/visuel-event1.png
END:VEVENT
BEGIN:VEVENT
DTSTART;TZID=America/Toronto:20240712T183000
DTEND;TZID=America/Toronto:20240712T210000
DTSTAMP:20260420T094603
CREATED:20240628T145843Z
LAST-MODIFIED:20241031T131055Z
UID:10001392-1720809000-1720818000@centrejacquescartier.org
SUMMARY:Potluck Végane
DESCRIPTION:Un potluck est un repas où chacun.e apporte un plat à partager avec les autres. Une manière conviviale de partager un repas et de découvrir de nouvelles recettes. Dans ce potluck\, tous les plats seront véganes\, c’est-à-dire qu’il n’y a aucun produit animal. \nEn plus de partager un repas et de rencontrer de nouvelles personnes\, vous pouvez apporter des jeux de société ou instruments de musique. Il y aura de l’espace pour cela après le repas pour celles et ceux qui voudront jouer. \nAdresse:Centre Jacques-Cartier20 Boulevard Charest EstQuébec QC G1K 3G2 \nHeure: 18h30 \nRappels :– Afin que chacun.e puisse manger sans se poser de questions\, nous vous invitons à apporter un repas végétalien ; c’est-à-dire SANS produit animal donc (pas de viande (boeuf\, porc\, poulet poisson\, fruits de mer)\, de lait\, de beurre\, de fromage\, de yogourt\, d’œuf\, de miel\, de bouillon de poulet/bœuf\, de gélatine\, etc.) \n– Si vous avez besoin d’idées pour cuisiner\, passez voir la section recettes ou envoyez-nous un courriel \n– Nous invitons tous.tes les participant.es à apporter la liste des ingrédients\, et pourquoi pas la recette au complet  \nOuvert à tous.tes! Amenez vos ami.es! Au plaisir de vous revoir et de partager un autre repas ensemble!
URL:https://centrejacquescartier.org/activite/potluck-vegane-5/2024-07-12/
LOCATION:Centre résidentiel et communautaire Jacques-Cartier\, 421 Boulevard Langelier\, Québec\, Québec\, G1K 9B9\, Canada
CATEGORIES:Dôme
ATTACH;FMTTYPE=image/jpeg:https://centrejacquescartier.org/wp-content/uploads/2024/06/potluckvegane.jpg
END:VEVENT
BEGIN:VEVENT
DTSTART;TZID=America/Toronto:20231019T170000
DTEND;TZID=America/Toronto:20231019T193000
DTSTAMP:20260420T094603
CREATED:20231011T182248Z
LAST-MODIFIED:20231011T182248Z
UID:10001223-1697734800-1697743800@centrejacquescartier.org
SUMMARY:Barbecue dans l'Oasis
DESCRIPTION:Joignez-vous à nous pour le dernier BBQ pour la communauté de la saison ! \nAu menu: hamburger\, hot-dog\, joie\, plaisir et bonheur!\nUne version végan sera aussi disponible. \nOn a bien hâte de vous voir dans l’Oasis!
URL:https://centrejacquescartier.org/activite/barbecue-dans-loasis/
LOCATION:Centre résidentiel et communautaire Jacques-Cartier\, 421 Boulevard Langelier\, Québec\, Québec\, G1K 9B9\, Canada
CATEGORIES:Dôme
ATTACH;FMTTYPE=image/png:https://centrejacquescartier.org/wp-content/uploads/2023/10/visuel-event-2.png
END:VEVENT
BEGIN:VEVENT
DTSTART;TZID=America/Toronto:20231005T110000
DTEND;TZID=America/Toronto:20231005T190000
DTSTAMP:20260420T094603
CREATED:20231004T205003Z
LAST-MODIFIED:20231004T205003Z
UID:10001220-1696503600-1696532400@centrejacquescartier.org
SUMMARY:Journée embellissement & BBQ Oasis
DESCRIPTION:Nous t’invitons à un embellissement de notre CJC suivi d’un BBQ dans l’oasis. On choisi ce qu’on à envie de prendre soin sur place la journée même. On se rejoint dans l’Oasis à 11h pour embellissement et 16h pour le BBQ! \nAu menu : Burger garni du jardin de l’oasis (option végé-vegan)\nOù : L’oasis urbain du CJC\, 20 Boulevard Charest E\, Québec\, QC G1K 3G2\nQuand : Le jeudi 5 oct \nHabillez vous en conséquence de la température.\nReprise possible s’il y a de la pluie !
URL:https://centrejacquescartier.org/activite/journee-embellissement-bbq-oasis/
LOCATION:Centre résidentiel et communautaire Jacques-Cartier\, 421 Boulevard Langelier\, Québec\, Québec\, G1K 9B9\, Canada
CATEGORIES:Dôme
ATTACH;FMTTYPE=image/jpeg:https://centrejacquescartier.org/wp-content/uploads/2023/10/journee-embellissement.jpg
END:VEVENT
END:VCALENDAR