BEGIN:VCALENDAR
VERSION:2.0
PRODID:-//Centre Jacques-Cartier - ECPv6.15.17.1//NONSGML v1.0//EN
CALSCALE:GREGORIAN
METHOD:PUBLISH
X-ORIGINAL-URL:https://centrejacquescartier.org
X-WR-CALDESC:Évènements pour Centre Jacques-Cartier
REFRESH-INTERVAL;VALUE=DURATION:PT1H
X-Robots-Tag:noindex
X-PUBLISHED-TTL:PT1H
BEGIN:VTIMEZONE
TZID:America/Toronto
BEGIN:DAYLIGHT
TZOFFSETFROM:-0500
TZOFFSETTO:-0400
TZNAME:EDT
DTSTART:20250309T070000
END:DAYLIGHT
BEGIN:STANDARD
TZOFFSETFROM:-0400
TZOFFSETTO:-0500
TZNAME:EST
DTSTART:20251102T060000
END:STANDARD
BEGIN:DAYLIGHT
TZOFFSETFROM:-0500
TZOFFSETTO:-0400
TZNAME:EDT
DTSTART:20260308T070000
END:DAYLIGHT
BEGIN:STANDARD
TZOFFSETFROM:-0400
TZOFFSETTO:-0500
TZNAME:EST
DTSTART:20261101T060000
END:STANDARD
BEGIN:DAYLIGHT
TZOFFSETFROM:-0500
TZOFFSETTO:-0400
TZNAME:EDT
DTSTART:20270314T070000
END:DAYLIGHT
BEGIN:STANDARD
TZOFFSETFROM:-0400
TZOFFSETTO:-0500
TZNAME:EST
DTSTART:20271107T060000
END:STANDARD
END:VTIMEZONE
BEGIN:VEVENT
DTSTART;TZID=America/Toronto:20260506T180000
DTEND;TZID=America/Toronto:20260506T200000
DTSTAMP:20260419T134838
CREATED:20260416T152059Z
LAST-MODIFIED:20260416T152151Z
UID:10002474-1778090400-1778097600@centrejacquescartier.org
SUMMARY:Atelier : Naviguer la bureaucratie
DESCRIPTION:🏳️‍⚧️ Divergenres poursuit sa série de 10 ateliers dans le cadre de son projet « Vers une meilleure connaissance des droits trans » financé par Femmes et égalité des genres Canada. \n📌 Rejoignez nous le 6 mai à 18h au 421 Boulevard Langelier pour un atelier d’éducation populaire pour aider à mieux naviguer la bureaucratie associée aux démarches de transitions! \n🏳️‍🌈 Ces ateliers gratuit s’adressent aux personnes trans et leurs allié·e·s. \n💛 Cet atelier sera animé par Maz. \n💜 Ces événements ne sont pas réservés aux membres de Divergenres\, mais nous vous invitons à nous soutenir en devenant membre : https://www.zeffy.com/fr-CA/ticketing/9200dcd4-0a79-4a2e-bf49-b681e9dad994 \n 
URL:https://centrejacquescartier.org/activite/atelier-naviguer-la-bureaucratie/
LOCATION:Québec
CATEGORIES:Dôme
ATTACH;FMTTYPE=image/webp:https://centrejacquescartier.org/wp-content/uploads/2026/04/3bab88e8-207a-4346-b042-c2f183c0625c.webp
END:VEVENT
END:VCALENDAR