BEGIN:VCALENDAR
VERSION:2.0
PRODID:-//Centre Jacques-Cartier - ECPv6.15.17.1//NONSGML v1.0//EN
CALSCALE:GREGORIAN
METHOD:PUBLISH
X-ORIGINAL-URL:https://centrejacquescartier.org
X-WR-CALDESC:Évènements pour Centre Jacques-Cartier
REFRESH-INTERVAL;VALUE=DURATION:PT1H
X-Robots-Tag:noindex
X-PUBLISHED-TTL:PT1H
BEGIN:VTIMEZONE
TZID:America/Toronto
BEGIN:DAYLIGHT
TZOFFSETFROM:-0500
TZOFFSETTO:-0400
TZNAME:EDT
DTSTART:20250309T070000
END:DAYLIGHT
BEGIN:STANDARD
TZOFFSETFROM:-0400
TZOFFSETTO:-0500
TZNAME:EST
DTSTART:20251102T060000
END:STANDARD
BEGIN:DAYLIGHT
TZOFFSETFROM:-0500
TZOFFSETTO:-0400
TZNAME:EDT
DTSTART:20260308T070000
END:DAYLIGHT
BEGIN:STANDARD
TZOFFSETFROM:-0400
TZOFFSETTO:-0500
TZNAME:EST
DTSTART:20261101T060000
END:STANDARD
BEGIN:DAYLIGHT
TZOFFSETFROM:-0500
TZOFFSETTO:-0400
TZNAME:EDT
DTSTART:20270314T070000
END:DAYLIGHT
BEGIN:STANDARD
TZOFFSETFROM:-0400
TZOFFSETTO:-0500
TZNAME:EST
DTSTART:20271107T060000
END:STANDARD
END:VTIMEZONE
BEGIN:VEVENT
DTSTART;TZID=America/Toronto:20260505T170000
DTEND;TZID=America/Toronto:20260505T200000
DTSTAMP:20260419T134900
CREATED:20260416T144630Z
LAST-MODIFIED:20260417T185622Z
UID:10002473-1778000400-1778011200@centrejacquescartier.org
SUMMARY:AGO | information et observation sur le projet d’agrandissement au CJC
DESCRIPTION:Le mardi 5 mai\, vous êtes invité·e·s à une AGO | information et observation sur le projet d’agrandissement au CJC. \n🕕17h à 18h: Accueil et bouchées \n18h à 20h30: AGO \nOuvert à tout le monde & gratuit
URL:https://centrejacquescartier.org/activite/ago-agrandissement/
LOCATION:Centre résidentiel et communautaire Jacques-Cartier\, 421 Boulevard Langelier\, Québec\, Québec\, G1K 9B9\, Canada
CATEGORIES:Dôme
ATTACH;FMTTYPE=image/png:https://centrejacquescartier.org/wp-content/uploads/2026/04/Event-indie-CJC-7.png
END:VEVENT
END:VCALENDAR