BEGIN:VCALENDAR
VERSION:2.0
PRODID:-//Centre Jacques-Cartier - ECPv6.15.17.1//NONSGML v1.0//EN
CALSCALE:GREGORIAN
METHOD:PUBLISH
X-WR-CALNAME:Centre Jacques-Cartier
X-ORIGINAL-URL:https://centrejacquescartier.org
X-WR-CALDESC:Évènements pour Centre Jacques-Cartier
REFRESH-INTERVAL;VALUE=DURATION:PT1H
X-Robots-Tag:noindex
X-PUBLISHED-TTL:PT1H
BEGIN:VTIMEZONE
TZID:America/Toronto
BEGIN:DAYLIGHT
TZOFFSETFROM:-0500
TZOFFSETTO:-0400
TZNAME:EDT
DTSTART:20250309T070000
END:DAYLIGHT
BEGIN:STANDARD
TZOFFSETFROM:-0400
TZOFFSETTO:-0500
TZNAME:EST
DTSTART:20251102T060000
END:STANDARD
BEGIN:DAYLIGHT
TZOFFSETFROM:-0500
TZOFFSETTO:-0400
TZNAME:EDT
DTSTART:20260308T070000
END:DAYLIGHT
BEGIN:STANDARD
TZOFFSETFROM:-0400
TZOFFSETTO:-0500
TZNAME:EST
DTSTART:20261101T060000
END:STANDARD
BEGIN:DAYLIGHT
TZOFFSETFROM:-0500
TZOFFSETTO:-0400
TZNAME:EDT
DTSTART:20270314T070000
END:DAYLIGHT
BEGIN:STANDARD
TZOFFSETFROM:-0400
TZOFFSETTO:-0500
TZNAME:EST
DTSTART:20271107T060000
END:STANDARD
END:VTIMEZONE
BEGIN:VEVENT
DTSTART;TZID=America/Toronto:20260318T130000
DTEND;TZID=America/Toronto:20260318T163000
DTSTAMP:20260419T134642
CREATED:20260313T120037Z
LAST-MODIFIED:20260311T200012Z
UID:10002453-1773838800-1773851400@centrejacquescartier.org
SUMMARY:Transfo-grève collective
DESCRIPTION:Après-midi Transfo-grève collective \nLe CJC vous propose un après-midi de confection de nourriture et de collations en préparation aux semaines de grève. \nL’activité se déroulera de 13h à 16h30 avec animation d’une discussion autour des mouvements sociaux de grèves. \nGratuit et ouvert à toustes!
URL:https://centrejacquescartier.org/activite/transfo-greve-collective/
LOCATION:Centre résidentiel et communautaire Jacques-Cartier\, 421 Boulevard Langelier\, Québec\, Québec\, G1K 9B9\, Canada
CATEGORIES:Dôme
ATTACH;FMTTYPE=image/jpeg:https://centrejacquescartier.org/wp-content/uploads/2026/03/Invitation-transfo-discussion-18-mars-.jpg
END:VEVENT
BEGIN:VEVENT
DTSTART;TZID=America/Toronto:20260318T170000
DTEND;TZID=America/Toronto:20260318T200000
DTSTAMP:20260419T134642
CREATED:20260313T120311Z
LAST-MODIFIED:20260311T200700Z
UID:10002454-1773853200-1773864000@centrejacquescartier.org
SUMMARY:Soirée "Mouvements sociaux"
DESCRIPTION:Le CJC vous invite à une soirée « Mouvements sociaux »!\nCette soirée d’éducation populaire sera sur la thématique des mouvements sociaux et nous aurons le plaisir de partager un repas. \n\nOuverture des portes 17h\nDébut 17h30\nFin 20hGratuit et ouvert à toustes!
URL:https://centrejacquescartier.org/activite/soiree-mouvements-sociaux/
LOCATION:Centre résidentiel et communautaire Jacques-Cartier\, 421 Boulevard Langelier\, Québec\, Québec\, G1K 9B9\, Canada
CATEGORIES:Dôme
ATTACH;FMTTYPE=image/jpeg:https://centrejacquescartier.org/wp-content/uploads/2026/03/Mouvement-sociaux-18-mars.jpg
END:VEVENT
END:VCALENDAR