BEGIN:VCALENDAR
VERSION:2.0
PRODID:-//Centre Jacques-Cartier - ECPv6.15.17.1//NONSGML v1.0//EN
CALSCALE:GREGORIAN
METHOD:PUBLISH
X-ORIGINAL-URL:https://centrejacquescartier.org
X-WR-CALDESC:Évènements pour Centre Jacques-Cartier
REFRESH-INTERVAL;VALUE=DURATION:PT1H
X-Robots-Tag:noindex
X-PUBLISHED-TTL:PT1H
BEGIN:VTIMEZONE
TZID:America/Toronto
BEGIN:DAYLIGHT
TZOFFSETFROM:-0500
TZOFFSETTO:-0400
TZNAME:EDT
DTSTART:20250309T070000
END:DAYLIGHT
BEGIN:STANDARD
TZOFFSETFROM:-0400
TZOFFSETTO:-0500
TZNAME:EST
DTSTART:20251102T060000
END:STANDARD
BEGIN:DAYLIGHT
TZOFFSETFROM:-0500
TZOFFSETTO:-0400
TZNAME:EDT
DTSTART:20260308T070000
END:DAYLIGHT
BEGIN:STANDARD
TZOFFSETFROM:-0400
TZOFFSETTO:-0500
TZNAME:EST
DTSTART:20261101T060000
END:STANDARD
BEGIN:DAYLIGHT
TZOFFSETFROM:-0500
TZOFFSETTO:-0400
TZNAME:EDT
DTSTART:20270314T070000
END:DAYLIGHT
BEGIN:STANDARD
TZOFFSETFROM:-0400
TZOFFSETTO:-0500
TZNAME:EST
DTSTART:20271107T060000
END:STANDARD
END:VTIMEZONE
BEGIN:VEVENT
DTSTART;TZID=America/Toronto:20260304T180000
DTEND;TZID=America/Toronto:20260304T200000
DTSTAMP:20260419T134837
CREATED:20260217T161707Z
LAST-MODIFIED:20260224T211501Z
UID:10002448-1772647200-1772654400@centrejacquescartier.org
SUMMARY:Atelier : Droits aux soins transaffirmatifs
DESCRIPTION:🏳️‍⚧️ Divergenres poursuit sa série de 10 ateliers dans le cadre de son projet « Vers une meilleure connaissance des droits trans » financé par Femmes et égalité des genres Canada. \n📌 Rejoignez nous le 4 mars à 18h au 421 Boulevard Langelier pour un atelier d’éducation populaire sur les droits aux soins transaffirmatifs ! Cet atelier visera à vous outiller pour défendre vos droits face aux professionnel.le.s de la santé. \n🏳️‍🌈 Ces ateliers gratuit s’adressent aux personnes trans et leurs allié.e.s. \n💛 Cet atelier sera animé par Sam Vaillancourt de TransEstrie. \n💜 Ces événements ne sont pas réservés aux membres de Divergenres\, mais nous vous invitons à nous soutenir en devenant membre : https://www.zeffy.com/fr-CA/ticketing/9200dcd4-0a79-4a2e-bf49-b681e9dad994
URL:https://centrejacquescartier.org/activite/atelier-droit-trans-divergenres-en-soiree/
LOCATION:Centre résidentiel et communautaire Jacques-Cartier\, 421 Boulevard Langelier\, Québec\, Québec\, G1K 9B9\, Canada
CATEGORIES:Dôme
END:VEVENT
END:VCALENDAR