BEGIN:VCALENDAR
VERSION:2.0
PRODID:-//Centre Jacques-Cartier - ECPv6.15.17.1//NONSGML v1.0//EN
CALSCALE:GREGORIAN
METHOD:PUBLISH
X-WR-CALNAME:Centre Jacques-Cartier
X-ORIGINAL-URL:https://centrejacquescartier.org
X-WR-CALDESC:Évènements pour Centre Jacques-Cartier
REFRESH-INTERVAL;VALUE=DURATION:PT1H
X-Robots-Tag:noindex
X-PUBLISHED-TTL:PT1H
BEGIN:VTIMEZONE
TZID:America/Toronto
BEGIN:DAYLIGHT
TZOFFSETFROM:-0500
TZOFFSETTO:-0400
TZNAME:EDT
DTSTART:20250309T070000
END:DAYLIGHT
BEGIN:STANDARD
TZOFFSETFROM:-0400
TZOFFSETTO:-0500
TZNAME:EST
DTSTART:20251102T060000
END:STANDARD
BEGIN:DAYLIGHT
TZOFFSETFROM:-0500
TZOFFSETTO:-0400
TZNAME:EDT
DTSTART:20260308T070000
END:DAYLIGHT
BEGIN:STANDARD
TZOFFSETFROM:-0400
TZOFFSETTO:-0500
TZNAME:EST
DTSTART:20261101T060000
END:STANDARD
BEGIN:DAYLIGHT
TZOFFSETFROM:-0500
TZOFFSETTO:-0400
TZNAME:EDT
DTSTART:20270314T070000
END:DAYLIGHT
BEGIN:STANDARD
TZOFFSETFROM:-0400
TZOFFSETTO:-0500
TZNAME:EST
DTSTART:20271107T060000
END:STANDARD
END:VTIMEZONE
BEGIN:VEVENT
DTSTART;TZID=America/Toronto:20260219T170000
DTEND;TZID=America/Toronto:20260219T190000
DTSTAMP:20260419T152940
CREATED:20260121T184343Z
LAST-MODIFIED:20260121T184533Z
UID:10002442-1771520400-1771527600@centrejacquescartier.org
SUMMARY:SORTIES DE RÉSIDENCES ET SOIRÉE FESTIVE
DESCRIPTION:*Note : Cette activité se tient dans le cadre d’une LOCATION DE SALLE au CJC.  \nDétails de l’événement organisé par SPIRA : \n🥂 SPIRA vous invite à son annuelle soirée festive! \n📝AU MENU📝\n✨ 𝑺𝒐𝒓𝒕𝒊𝒆𝒔 𝒅𝒆 𝒓𝒆́𝒔𝒊𝒅𝒆𝒏𝒄𝒆𝒔\nDécouvrez le travail des trois artistes qui étaient en résidence chez SPIRA : Sarah l’Hérault\, Diego Rojas et Clarissa Rebouças. \n✨ 𝑹𝒆́𝒔𝒆𝒂𝒖𝒕𝒂𝒈𝒆\nFidèle à vos habitudes\, profitez de la soirée festive de SPIRA pour jaser avec vos collègues du milieu du cinéma de Québec! \n✨𝑫𝒆́𝒗𝒐𝒊𝒍𝒆𝒎𝒆𝒏𝒕 𝒅𝒆 𝒍𝒂 𝒃𝒂𝒏𝒅𝒆 𝒂𝒏𝒏𝒐𝒏𝒄𝒆 𝑺𝑷𝑰𝑹𝑨 𝒆𝒕 𝒑𝒓𝒐𝒋𝒆𝒄𝒕𝒊𝒐𝒏𝒔\nDécouvrez en primeur la nouvelle bande annonce SPIRA qui sera projetée pendant certains festivals\, et découvrez quelques films de notre catalogue! \n👉🏻 INFORMATIONS IMPORTANTES\nDate : 19 février 2026\nHeure : dès 17h\nLieu : Au CJC (Centre résidentiel et communautaire Jacques-Cartier).
URL:https://centrejacquescartier.org/activite/sorties-de-residences-et-soiree-festive/
LOCATION:Centre résidentiel et communautaire Jacques-Cartier\, 421 Boulevard Langelier\, Québec\, Québec\, G1K 9B9\, Canada
CATEGORIES:Dôme
ATTACH;FMTTYPE=image/jpeg:https://centrejacquescartier.org/wp-content/uploads/2026/01/616810527_1345352884287425_5468389662039973484_n.jpg
END:VEVENT
END:VCALENDAR