BEGIN:VCALENDAR
VERSION:2.0
PRODID:-//Centre Jacques-Cartier - ECPv6.15.17.1//NONSGML v1.0//EN
CALSCALE:GREGORIAN
METHOD:PUBLISH
X-ORIGINAL-URL:https://centrejacquescartier.org
X-WR-CALDESC:Évènements pour Centre Jacques-Cartier
REFRESH-INTERVAL;VALUE=DURATION:PT1H
X-Robots-Tag:noindex
X-PUBLISHED-TTL:PT1H
BEGIN:VTIMEZONE
TZID:America/Toronto
BEGIN:DAYLIGHT
TZOFFSETFROM:-0500
TZOFFSETTO:-0400
TZNAME:EDT
DTSTART:20250309T070000
END:DAYLIGHT
BEGIN:STANDARD
TZOFFSETFROM:-0400
TZOFFSETTO:-0500
TZNAME:EST
DTSTART:20251102T060000
END:STANDARD
BEGIN:DAYLIGHT
TZOFFSETFROM:-0500
TZOFFSETTO:-0400
TZNAME:EDT
DTSTART:20260308T070000
END:DAYLIGHT
BEGIN:STANDARD
TZOFFSETFROM:-0400
TZOFFSETTO:-0500
TZNAME:EST
DTSTART:20261101T060000
END:STANDARD
BEGIN:DAYLIGHT
TZOFFSETFROM:-0500
TZOFFSETTO:-0400
TZNAME:EDT
DTSTART:20270314T070000
END:DAYLIGHT
BEGIN:STANDARD
TZOFFSETFROM:-0400
TZOFFSETTO:-0500
TZNAME:EST
DTSTART:20271107T060000
END:STANDARD
END:VTIMEZONE
BEGIN:VEVENT
DTSTART;TZID=America/Toronto:20260204T130000
DTEND;TZID=America/Toronto:20260204T150000
DTSTAMP:20260419T153002
CREATED:20260128T205343Z
LAST-MODIFIED:20260128T205343Z
UID:10002445-1770210000-1770217200@centrejacquescartier.org
SUMMARY:Imaginons nos soirées d'éducation populaire
DESCRIPTION:Nous vous invitons à venir rêver et imaginer les soirées d’éducation avec nous le mercredi 4 février de 13h à 15h.\nLe but est de recueillir vos idées et de s’inspirer collectivement! \nL’activité est ouverte à toustes!
URL:https://centrejacquescartier.org/activite/imaginons-nos-soirees-deducation-populaire/
LOCATION:Centre résidentiel et communautaire Jacques-Cartier\, 421 Boulevard Langelier\, Québec\, Québec\, G1K 9B9\, Canada
CATEGORIES:Dôme
ATTACH;FMTTYPE=image/png:https://centrejacquescartier.org/wp-content/uploads/2026/01/Theme-education-pop.png
END:VEVENT
END:VCALENDAR