BEGIN:VCALENDAR
VERSION:2.0
PRODID:-//Centre Jacques-Cartier - ECPv6.15.17.1//NONSGML v1.0//EN
CALSCALE:GREGORIAN
METHOD:PUBLISH
X-WR-CALNAME:Centre Jacques-Cartier
X-ORIGINAL-URL:https://centrejacquescartier.org
X-WR-CALDESC:Évènements pour Centre Jacques-Cartier
REFRESH-INTERVAL;VALUE=DURATION:PT1H
X-Robots-Tag:noindex
X-PUBLISHED-TTL:PT1H
BEGIN:VTIMEZONE
TZID:America/Toronto
BEGIN:DAYLIGHT
TZOFFSETFROM:-0500
TZOFFSETTO:-0400
TZNAME:EDT
DTSTART:20250309T070000
END:DAYLIGHT
BEGIN:STANDARD
TZOFFSETFROM:-0400
TZOFFSETTO:-0500
TZNAME:EST
DTSTART:20251102T060000
END:STANDARD
BEGIN:DAYLIGHT
TZOFFSETFROM:-0500
TZOFFSETTO:-0400
TZNAME:EDT
DTSTART:20260308T070000
END:DAYLIGHT
BEGIN:STANDARD
TZOFFSETFROM:-0400
TZOFFSETTO:-0500
TZNAME:EST
DTSTART:20261101T060000
END:STANDARD
BEGIN:DAYLIGHT
TZOFFSETFROM:-0500
TZOFFSETTO:-0400
TZNAME:EDT
DTSTART:20270314T070000
END:DAYLIGHT
BEGIN:STANDARD
TZOFFSETFROM:-0400
TZOFFSETTO:-0500
TZNAME:EST
DTSTART:20271107T060000
END:STANDARD
END:VTIMEZONE
BEGIN:VEVENT
DTSTART;TZID=America/Toronto:20260121T180000
DTEND;TZID=America/Toronto:20260121T200000
DTSTAMP:20260419T163756
CREATED:20251014T191403Z
LAST-MODIFIED:20251014T191403Z
UID:10002346-1769018400-1769025600@centrejacquescartier.org
SUMMARY:Tricot & Jasette | Échanges & créations au CJC
DESCRIPTION:Viens passer une soirée conviviale à bricoler et à jaser ! Craft&YAP est organisée par des gens de la communauté queer afin de créer un espace pour une communauté mixte et alié·e·s. \nQue tu sois fan d’art du fil/fibre\, de dessin\, de collage ou de tout autre projet créatif\, apporte ton matériel et installe-toi avec nous. \nUn bac d’art de dépôt de surplus pour la communauté est à votre disposition pour donner et prendre du matériel en alternance! \nOn se retrouve au Centre résidentiel et communautaire Jacques-Cartier pour un moment de créations et d’échanges sans prétention. Ouverture des portes dès 18h30. \nDu café et du thé seront offerts sur place\, et si tu as envie\, apporte des petites choses à grignoter qui sont en trop chez toi pour les partager avec le groupe ! \nL’événement est ouvert à toustes\, et sache que c’est un espace organisé par des personnes queers\, alors on s’attend à un environnement respectueux et inclusif où chacun·e peut être soi-même. \nPas besoin de réserver\, juste à venir avec ton énergie et ta créativité !
URL:https://centrejacquescartier.org/activite/tricot-jasette-echanges-creations-au-cjc/2026-01-21/
LOCATION:Centre résidentiel et communautaire Jacques-Cartier\, 421 Boulevard Langelier\, Québec\, Québec\, G1K 9B9\, Canada
CATEGORIES:Dôme
ATTACH;FMTTYPE=image/jpeg:https://centrejacquescartier.org/wp-content/uploads/2025/10/Event-indie-CJC.jpg
END:VEVENT
END:VCALENDAR